BEGIN:VCALENDAR
VERSION:2.0
PRODID:-//ArtScéniK - ECPv6.15.20//NONSGML v1.0//EN
CALSCALE:GREGORIAN
METHOD:PUBLISH
X-WR-CALNAME:ArtScéniK
X-ORIGINAL-URL:https://artscenik.ch
X-WR-CALDESC:Évènements pour ArtScéniK
REFRESH-INTERVAL;VALUE=DURATION:PT1H
X-Robots-Tag:noindex
X-PUBLISHED-TTL:PT1H
BEGIN:VTIMEZONE
TZID:Europe/Zurich
BEGIN:DAYLIGHT
TZOFFSETFROM:+0100
TZOFFSETTO:+0200
TZNAME:CEST
DTSTART:20250330T010000
END:DAYLIGHT
BEGIN:STANDARD
TZOFFSETFROM:+0200
TZOFFSETTO:+0100
TZNAME:CET
DTSTART:20251026T010000
END:STANDARD
BEGIN:DAYLIGHT
TZOFFSETFROM:+0100
TZOFFSETTO:+0200
TZNAME:CEST
DTSTART:20260329T010000
END:DAYLIGHT
BEGIN:STANDARD
TZOFFSETFROM:+0200
TZOFFSETTO:+0100
TZNAME:CET
DTSTART:20261025T010000
END:STANDARD
BEGIN:DAYLIGHT
TZOFFSETFROM:+0100
TZOFFSETTO:+0200
TZNAME:CEST
DTSTART:20270328T010000
END:DAYLIGHT
BEGIN:STANDARD
TZOFFSETFROM:+0200
TZOFFSETTO:+0100
TZNAME:CET
DTSTART:20271031T010000
END:STANDARD
END:VTIMEZONE
BEGIN:VEVENT
DTSTART;TZID=Europe/Zurich:20260301T093000
DTEND;TZID=Europe/Zurich:20260301T163000
DTSTAMP:20260425T201138
CREATED:20251007T105048Z
LAST-MODIFIED:20251007T105048Z
UID:7082-1772357400-1772382600@artscenik.ch
SUMMARY:Week-end de création
DESCRIPTION:
URL:https://artscenik.ch/calendrier/week-end-de-creation-4/
LOCATION:École ArtScéniK\, Avenue de France 4\, Monthey\, Valais\, 1870\, Suisse
CATEGORIES:Cours
END:VEVENT
BEGIN:VEVENT
DTSTART;TZID=Europe/Zurich:20260314T093000
DTEND;TZID=Europe/Zurich:20260314T163000
DTSTAMP:20260425T201138
CREATED:20250826T115103Z
LAST-MODIFIED:20250826T115103Z
UID:6844-1773480600-1773505800@artscenik.ch
SUMMARY:Samedi Grand Numéro
DESCRIPTION:
URL:https://artscenik.ch/calendrier/samedi-grand-numero-6/
LOCATION:École ArtScéniK\, Avenue de France 4\, Monthey\, Valais\, 1870\, Suisse
CATEGORIES:Cours
END:VEVENT
BEGIN:VEVENT
DTSTART;VALUE=DATE:20260319
DTEND;VALUE=DATE:20260321
DTSTAMP:20260425T201138
CREATED:20250826T115158Z
LAST-MODIFIED:20250826T120419Z
UID:6846-1773878400-1774051199@artscenik.ch
SUMMARY:Férié - pas de cours
DESCRIPTION:
URL:https://artscenik.ch/calendrier/ferie-pas-de-cours-2/
LOCATION:Valais
CATEGORIES:Vacances
END:VEVENT
END:VCALENDAR