BEGIN:VCALENDAR
VERSION:2.0
PRODID:-//ArtScéniK - ECPv6.15.20//NONSGML v1.0//EN
CALSCALE:GREGORIAN
METHOD:PUBLISH
X-ORIGINAL-URL:https://artscenik.ch
X-WR-CALDESC:Évènements pour ArtScéniK
REFRESH-INTERVAL;VALUE=DURATION:PT1H
X-Robots-Tag:noindex
X-PUBLISHED-TTL:PT1H
BEGIN:VTIMEZONE
TZID:Europe/Zurich
BEGIN:DAYLIGHT
TZOFFSETFROM:+0100
TZOFFSETTO:+0200
TZNAME:CEST
DTSTART:20240331T010000
END:DAYLIGHT
BEGIN:STANDARD
TZOFFSETFROM:+0200
TZOFFSETTO:+0100
TZNAME:CET
DTSTART:20241027T010000
END:STANDARD
BEGIN:DAYLIGHT
TZOFFSETFROM:+0100
TZOFFSETTO:+0200
TZNAME:CEST
DTSTART:20250330T010000
END:DAYLIGHT
BEGIN:STANDARD
TZOFFSETFROM:+0200
TZOFFSETTO:+0100
TZNAME:CET
DTSTART:20251026T010000
END:STANDARD
BEGIN:DAYLIGHT
TZOFFSETFROM:+0100
TZOFFSETTO:+0200
TZNAME:CEST
DTSTART:20260329T010000
END:DAYLIGHT
BEGIN:STANDARD
TZOFFSETFROM:+0200
TZOFFSETTO:+0100
TZNAME:CET
DTSTART:20261025T010000
END:STANDARD
BEGIN:DAYLIGHT
TZOFFSETFROM:+0100
TZOFFSETTO:+0200
TZNAME:CEST
DTSTART:20270328T010000
END:DAYLIGHT
BEGIN:STANDARD
TZOFFSETFROM:+0200
TZOFFSETTO:+0100
TZNAME:CET
DTSTART:20271031T010000
END:STANDARD
END:VTIMEZONE
BEGIN:VEVENT
DTSTART;VALUE=DATE:20251213
DTEND;VALUE=DATE:20260105
DTSTAMP:20260425T230113
CREATED:20250826T114146Z
LAST-MODIFIED:20251209T130506Z
UID:6833-1765584000-1767571199@artscenik.ch
SUMMARY:Vacances de Noël
DESCRIPTION:Les derniers cours auront lieu le jeudi 11 décembre avant la pause hivernale
URL:https://artscenik.ch/calendrier/vacances-de-noel-2/
LOCATION:Valais
CATEGORIES:Vacances
ATTACH;FMTTYPE=image/jpeg:https://artscenik.ch/wp-content/uploads/2025/08/vacances-noel-2025-recadree.jpg
END:VEVENT
BEGIN:VEVENT
DTSTART;TZID=Europe/Zurich:20260110T093000
DTEND;TZID=Europe/Zurich:20260110T163000
DTSTAMP:20260425T230113
CREATED:20250826T114259Z
LAST-MODIFIED:20250826T114259Z
UID:6835-1768037400-1768062600@artscenik.ch
SUMMARY:Samedi Grand Numéro
DESCRIPTION:
URL:https://artscenik.ch/calendrier/samedi-grand-numero-5/
LOCATION:École ArtScéniK\, Avenue de France 4\, Monthey\, Valais\, 1870\, Suisse
CATEGORIES:Vacances
END:VEVENT
BEGIN:VEVENT
DTSTART;TZID=Europe/Zurich:20260117T093000
DTEND;TZID=Europe/Zurich:20260117T163000
DTSTAMP:20260425T230113
CREATED:20250826T114417Z
LAST-MODIFIED:20251007T105136Z
UID:6837-1768642200-1768667400@artscenik.ch
SUMMARY:Week-end de création
DESCRIPTION:
URL:https://artscenik.ch/calendrier/week-end-de-creation-2/
LOCATION:École ArtScéniK\, Avenue de France 4\, Monthey\, Valais\, 1870\, Suisse
CATEGORIES:Cours
END:VEVENT
BEGIN:VEVENT
DTSTART;TZID=Europe/Zurich:20260118T093000
DTEND;TZID=Europe/Zurich:20260118T163000
DTSTAMP:20260425T230113
CREATED:20251007T105208Z
LAST-MODIFIED:20251007T105208Z
UID:7084-1768728600-1768753800@artscenik.ch
SUMMARY:Week-end de création
DESCRIPTION:
URL:https://artscenik.ch/calendrier/week-end-de-creation-5/
LOCATION:École ArtScéniK\, Avenue de France 4\, Monthey\, Valais\, 1870\, Suisse
CATEGORIES:Cours
END:VEVENT
END:VCALENDAR