BEGIN:VCALENDAR
VERSION:2.0
PRODID:-//ArtScéniK - ECPv6.15.20//NONSGML v1.0//EN
CALSCALE:GREGORIAN
METHOD:PUBLISH
X-ORIGINAL-URL:https://artscenik.ch
X-WR-CALDESC:Évènements pour ArtScéniK
REFRESH-INTERVAL;VALUE=DURATION:PT1H
X-Robots-Tag:noindex
X-PUBLISHED-TTL:PT1H
BEGIN:VTIMEZONE
TZID:Europe/Zurich
BEGIN:DAYLIGHT
TZOFFSETFROM:+0100
TZOFFSETTO:+0200
TZNAME:CEST
DTSTART:20250330T010000
END:DAYLIGHT
BEGIN:STANDARD
TZOFFSETFROM:+0200
TZOFFSETTO:+0100
TZNAME:CET
DTSTART:20251026T010000
END:STANDARD
BEGIN:DAYLIGHT
TZOFFSETFROM:+0100
TZOFFSETTO:+0200
TZNAME:CEST
DTSTART:20260329T010000
END:DAYLIGHT
BEGIN:STANDARD
TZOFFSETFROM:+0200
TZOFFSETTO:+0100
TZNAME:CET
DTSTART:20261025T010000
END:STANDARD
BEGIN:DAYLIGHT
TZOFFSETFROM:+0100
TZOFFSETTO:+0200
TZNAME:CEST
DTSTART:20270328T010000
END:DAYLIGHT
BEGIN:STANDARD
TZOFFSETFROM:+0200
TZOFFSETTO:+0100
TZNAME:CET
DTSTART:20271031T010000
END:STANDARD
END:VTIMEZONE
BEGIN:VEVENT
DTSTART;TZID=Europe/Zurich:20260502T090000
DTEND;TZID=Europe/Zurich:20260502T163000
DTSTAMP:20260425T131801
CREATED:20260127T130914Z
LAST-MODIFIED:20260127T130914Z
UID:7438-1777712400-1777739400@artscenik.ch
SUMMARY:Samedi de création
DESCRIPTION:
URL:https://artscenik.ch/calendrier/samedi-de-creation/
LOCATION:École ArtScéniK\, Avenue de France 4\, Monthey\, Valais\, 1870\, Suisse
END:VEVENT
BEGIN:VEVENT
DTSTART;TZID=Europe/Zurich:20260503T090000
DTEND;TZID=Europe/Zurich:20260503T163000
DTSTAMP:20260425T131801
CREATED:20260324T092721Z
LAST-MODIFIED:20260324T092809Z
UID:7551-1777798800-1777825800@artscenik.ch
SUMMARY:Dimanche Grand Numéro
DESCRIPTION:
URL:https://artscenik.ch/calendrier/dimanche-grand-numero/
LOCATION:École ArtScéniK\, Avenue de France 4\, Monthey\, Valais\, 1870\, Suisse
END:VEVENT
BEGIN:VEVENT
DTSTART;VALUE=DATE:20260514
DTEND;VALUE=DATE:20260518
DTSTAMP:20260425T131801
CREATED:20250826T115402Z
LAST-MODIFIED:20250826T120541Z
UID:6850-1778716800-1779062399@artscenik.ch
SUMMARY:Férié - pas de cours
DESCRIPTION:
URL:https://artscenik.ch/calendrier/ferie-pas-de-cours-3/
LOCATION:Valais
CATEGORIES:Vacances
END:VEVENT
BEGIN:VEVENT
DTSTART;TZID=Europe/Zurich:20260523T190000
DTEND;TZID=Europe/Zurich:20260523T210000
DTSTAMP:20260425T131801
CREATED:20251111T072603Z
LAST-MODIFIED:20260424T090633Z
UID:7169-1779562800-1779570000@artscenik.ch
SUMMARY:Spectacle de fin d'année de l'école
DESCRIPTION:  \nNos spectacles de fin d’année se dérouleront cette année au Théâtre du Raccot à Monthey ! Nos élèves s’y produiront afin de partager leurs talents et leur plaisir de pratiquer leur art\, le CIRQUE ! \nReprésentation à 19h00
URL:https://artscenik.ch/calendrier/spectacle-de-fin-dannee-de-lecole/
LOCATION:Théâtre du Raccot – Malévoz Quartier Culturel – Monthey\, Route de Morgins 10\, Monthey\, 1870\, Switzerland
CATEGORIES:Spectacle
END:VEVENT
BEGIN:VEVENT
DTSTART;TZID=Europe/Zurich:20260524T140000
DTEND;TZID=Europe/Zurich:20260524T200000
DTSTAMP:20260425T131801
CREATED:20251111T072803Z
LAST-MODIFIED:20260424T090756Z
UID:7174-1779631200-1779652800@artscenik.ch
SUMMARY:Spectacles de fin d'année de l'école
DESCRIPTION:  \n  \nNos spectacles de fin d’année se dérouleront cette année au Théâtre du Raccot à Monthey ! Nos élèves s’y produiront afin de partager leurs talents et leur plaisir de pratiquer leur art\, le CIRQUE ! \nReprésentations à 14h et à 18h
URL:https://artscenik.ch/calendrier/spectacles-de-fin-dannee/
LOCATION:Théâtre du Raccot – Malévoz Quartier Culturel – Monthey\, Route de Morgins 10\, Monthey\, 1870\, Switzerland
CATEGORIES:Spectacle
END:VEVENT
BEGIN:VEVENT
DTSTART;VALUE=DATE:20260525
DTEND;VALUE=DATE:20260526
DTSTAMP:20260425T131801
CREATED:20250826T115501Z
LAST-MODIFIED:20250826T120613Z
UID:6852-1779667200-1779753599@artscenik.ch
SUMMARY:Férié - pas de cours
DESCRIPTION:
URL:https://artscenik.ch/calendrier/ferie-pas-de-cours-4/
LOCATION:Valais
CATEGORIES:Vacances
END:VEVENT
BEGIN:VEVENT
DTSTART;VALUE=DATE:20260528
DTEND;VALUE=DATE:20260529
DTSTAMP:20260425T131801
CREATED:20260113T110347Z
LAST-MODIFIED:20260113T110347Z
UID:7400-1779926400-1780012799@artscenik.ch
SUMMARY:Spectacle fin d'année - groupes Mini-Cirque et Groupe 1 - Heure à préciser
DESCRIPTION:
URL:https://artscenik.ch/calendrier/spectacle-fin-dannee-groupes-mini-cirque-et-groupe-1-heure-a-preciser/
LOCATION:École ArtScéniK\, Avenue de France 4\, Monthey\, Valais\, 1870\, Suisse
CATEGORIES:Spectacle
END:VEVENT
BEGIN:VEVENT
DTSTART;VALUE=DATE:20260604
DTEND;VALUE=DATE:20260605
DTSTAMP:20260425T131801
CREATED:20250826T115614Z
LAST-MODIFIED:20250826T115614Z
UID:6854-1780531200-1780617599@artscenik.ch
SUMMARY:Férié - pas de cours
DESCRIPTION:
URL:https://artscenik.ch/calendrier/ferie-pas-de-cours-5/
LOCATION:Valais
CATEGORIES:Vacances
END:VEVENT
BEGIN:VEVENT
DTSTART;VALUE=DATE:20260620
DTEND;VALUE=DATE:20260901
DTSTAMP:20260425T131801
CREATED:20250826T115705Z
LAST-MODIFIED:20250826T115937Z
UID:6856-1781913600-1788220799@artscenik.ch
SUMMARY:Vacances d'été
DESCRIPTION:
URL:https://artscenik.ch/calendrier/vacances-dete-2/
LOCATION:Valais
CATEGORIES:Vacances
END:VEVENT
BEGIN:VEVENT
DTSTART;VALUE=DATE:20260720
DTEND;VALUE=DATE:20260724
DTSTAMP:20260425T131801
CREATED:20250826T115801Z
LAST-MODIFIED:20260203T153230Z
UID:6858-1784505600-1784851199@artscenik.ch
SUMMARY:Stages d'été - session 1
DESCRIPTION:Découverte\, partage et aventures dans l’univers du cirque! \nAcrobatie\, aérien\, jonglerie\, équilibre \n3 formules à choix : \n4 matinées (9h30-12h30) : 180.- \n4 journées (9h30-15h30) : 280.- \n8 journées (9h30-15h30) : 550.- \n-10% pour les élèves Artscénik \nInscriptions via le formulaire sous rubrique « COURS« 
URL:https://artscenik.ch/calendrier/stages-dete-session-1/
LOCATION:École ArtScéniK\, Avenue de France 4\, Monthey\, Valais\, 1870\, Suisse
CATEGORIES:stage
ATTACH;FMTTYPE=image/png:https://artscenik.ch/wp-content/uploads/2026/01/pour-web-scaled.png
END:VEVENT
BEGIN:VEVENT
DTSTART;VALUE=DATE:20260727
DTEND;VALUE=DATE:20260731
DTSTAMP:20260425T131801
CREATED:20250826T115852Z
LAST-MODIFIED:20260203T153202Z
UID:6860-1785110400-1785455999@artscenik.ch
SUMMARY:Stages d'été - session 2
DESCRIPTION:Découverte\, partage et aventures dans l’univers du cirque! \nAcrobatie\, aérien\, jonglerie\, équilibre \n3 formules à choix : \n4 matinées (9h30-12h30) : 180.- \n4 journées (9h30-15h30) : 280.- \n8 journées (9h30-15h30) : 550.- \n-10% pour les élèves Artscénik \nInscriptions via le formulaire sous rubrique « COURS »
URL:https://artscenik.ch/calendrier/stages-dete-session-2/
LOCATION:École ArtScéniK\, Avenue de France 4\, Monthey\, Valais\, 1870\, Suisse
CATEGORIES:stage
ATTACH;FMTTYPE=image/png:https://artscenik.ch/wp-content/uploads/2026/01/pour-web-scaled.png
END:VEVENT
END:VCALENDAR